﻿BEGIN:VCALENDAR
VERSION:2.0
PRODID:-//Regel-Recht aktuell - ECPv6.0.12//NONSGML v1.0//EN
CALSCALE:GREGORIAN
METHOD:PUBLISH
X-WR-CALNAME:Regel-Recht aktuell
X-ORIGINAL-URL:https://regelrechtaktuell.de
X-WR-CALDESC:Veranstaltungen im Regel-Recht aktuell
REFRESH-INTERVAL;VALUE=DURATION:PT1H
X-Robots-Tag:noindex
X-PUBLISHED-TTL:PT1H
BEGIN:VTIMEZONE
TZID:Europe/Berlin
BEGIN:DAYLIGHT
TZOFFSETFROM:+0100
TZOFFSETTO:+0200
TZNAME:CEST
DTSTART:20180325T010000
END:DAYLIGHT
BEGIN:STANDARD
TZOFFSETFROM:+0200
TZOFFSETTO:+0100
TZNAME:CET
DTSTART:20181028T010000
END:STANDARD
END:VTIMEZONE
BEGIN:VEVENT
DTSTART;VALUE=DATE:20180516
DTEND;VALUE=DATE:20180518
DTSTAMP:20260421T204237
CREATED:20180306T135120Z
LAST-MODIFIED:20180405T105658Z
UID:2548-1526428800-1526601599@regelrechtaktuell.de
SUMMARY:Arbeitsschutz für technische Führungskräfte
DESCRIPTION:Jahrestagung: Arbeitsschutz für technische Führungskräfte\, 16. – 17. Mai in Berlin. Die Website mit den ersten Informationen rund um die Veranstaltung ist online unter www.tacook.de/Arbeitsschutz2018. \nInhalt der Tagung:\nDie Fachkonferenz zeigt Entwicklungen und Umsetzungsbeispiele für den Arbeitsschutz im industriellen Umfeld. \nKernzielgruppe:\nDiese Veranstaltung richtet sich in erster Linie an Mitarbeiter und technische Führungskräfte\, die mit den Aufgaben des Arbeitsschutzes betraut sind. \nAngesprochen werden Verantwortliche aus den Abteilungen: \n\nLeiter Technik\nLeiter Instandhaltung\nBetriebsleiter\nLeiter Arbeitsschutz\nLeiter Produktion\nLeiter Engineering\nArbeitsschutzbeauftragte\nLeiter HSE
URL:https://regelrechtaktuell.de/event/arbeitsschutz-fuer-technische-fuehrungskraefte/
CATEGORIES:Termine
END:VEVENT
END:VCALENDAR