﻿BEGIN:VCALENDAR
VERSION:2.0
PRODID:-//Regel-Recht aktuell - ECPv6.0.12//NONSGML v1.0//EN
CALSCALE:GREGORIAN
METHOD:PUBLISH
X-WR-CALNAME:Regel-Recht aktuell
X-ORIGINAL-URL:https://regelrechtaktuell.de
X-WR-CALDESC:Veranstaltungen im Regel-Recht aktuell
REFRESH-INTERVAL;VALUE=DURATION:PT1H
X-Robots-Tag:noindex
X-PUBLISHED-TTL:PT1H
BEGIN:VTIMEZONE
TZID:Europe/Berlin
BEGIN:DAYLIGHT
TZOFFSETFROM:+0100
TZOFFSETTO:+0200
TZNAME:CEST
DTSTART:20160327T010000
END:DAYLIGHT
BEGIN:STANDARD
TZOFFSETFROM:+0200
TZOFFSETTO:+0100
TZNAME:CET
DTSTART:20161030T010000
END:STANDARD
END:VTIMEZONE
BEGIN:VEVENT
DTSTART;TZID=Europe/Berlin:20160301T110000
DTEND;TZID=Europe/Berlin:20160302T123000
DTSTAMP:20260423T051332
CREATED:20160114T161729Z
LAST-MODIFIED:20160114T161729Z
UID:538-1456830000-1456921800@regelrechtaktuell.de
SUMMARY:DGUV Fachgespräch Sicherheitsbeauftragte - Wirkung\, Kommunikation und Perspektiven
DESCRIPTION:Die Veranstaltung richtet sich insbesondere an die mit dem betrieblichen Arbeitsschutz verantwortlichen bzw. betrauten Akteure (z. B. die Mitglieder des ASA)\, sowie an die Aufsichtspersonen der Unfallversicherungsträger. In Impulsreferaten\, Workshops und Diskussionsrunden werden die Themenschwerpunkte: \n\nKommunikation für Sicherheitsbeauftragte\nRolle und Perspektive der Sibe\nGesundheit und Psyche\nNeuregelungen zur Bestimmung der Anzahl der Sicherheitsbeauftragten vorgestellt und diskutiert.
URL:https://regelrechtaktuell.de/event/dguv-fachgespraech-sicherheitsbeauftragte-wirkung-kommunikation-und-perspektiven/
LOCATION:DGUV Akademie\, Königsbrücker Landstraße 2\, Dresden\, 01109
CATEGORIES:Termine
END:VEVENT
END:VCALENDAR