﻿BEGIN:VCALENDAR
VERSION:2.0
PRODID:-//Regel-Recht aktuell - ECPv6.0.12//NONSGML v1.0//EN
CALSCALE:GREGORIAN
METHOD:PUBLISH
X-ORIGINAL-URL:https://regelrechtaktuell.de
X-WR-CALDESC:Veranstaltungen im Regel-Recht aktuell
REFRESH-INTERVAL;VALUE=DURATION:PT1H
X-Robots-Tag:noindex
X-PUBLISHED-TTL:PT1H
BEGIN:VTIMEZONE
TZID:Europe/Berlin
BEGIN:DAYLIGHT
TZOFFSETFROM:+0100
TZOFFSETTO:+0200
TZNAME:CEST
DTSTART:20160327T010000
END:DAYLIGHT
BEGIN:STANDARD
TZOFFSETFROM:+0200
TZOFFSETTO:+0100
TZNAME:CET
DTSTART:20161030T010000
END:STANDARD
END:VTIMEZONE
BEGIN:VEVENT
DTSTART;VALUE=DATE:20161121
DTEND;VALUE=DATE:20161123
DTSTAMP:20260422T144518
CREATED:20160115T115732Z
LAST-MODIFIED:20160115T115732Z
UID:556-1479686400-1479859199@regelrechtaktuell.de
SUMMARY:2. IAG Wissensbörse Prävention: Sicher durch den Paragrafen-Dschungel - Rechtsvorschriften kennen und anwenden
DESCRIPTION:Was ist neu im Vorschriften- und Regelwerk zur Verhütung von Arbeitsunfällen\, Berufskrankheiten und arbeitsbedingten Gesundheitsgefahren? Die Antwort auf dieser Frage steht im Mittelpunkt der interdisziplinären Tagung am IAG. \nNeue Entwicklungen und Methoden für gesundheitsgerechte Arbeitssysteme werden präsentiert und konkrete Transfermöglichkeiten für die betriebliche Praxis ausgearbeitet. An Markständen und in Workshops können Sie sich aktiv über relevante Themen zum Beispiel zur Sicherung der Beschäftigungsfähigkeit informieren und mit verschiedenen Akteuren im Arbeitsschutz austauschen. \nZIELE DER FACHTAGUNG \n\nÜberblick über die neuen Entwicklungen im Vorschriften- und Regelwerk\nMarktstände mit thematischen Schwerpunkten der Prävention\nAustausch vertiefen und den Transfer in die eigene Praxis durchdenken\nRaum für Beteiligung und Kooperationen (Netzwerke)\nVisualisierung von Umsetzungsmöglichkeiten und erzielten Ergebnissen\nLogbuch: Erkenntnisgewinn für die eigene Praxis sichern\n\nTHEMEN \n\nNeue Anforderungen aus dem Arbeitsstätten- und Betriebssicherheitsrecht\nPsychische Belastungen erkennen und beurteilen\nNeues Risikoverständnis im Vorschriften- und Regelwerk\nErgonomie zur Gestaltung sicherer und gesundheitsgerechter Arbeitssysteme\nBeschäftigungsfähigkeit älterer Arbeitnehmer sichern\n\nZIELGRUPPEN \nFachkräfte für Arbeitssicherheit\, Betriebsärzte\, betriebliche Führungskräfte\, Personalvertretungen\, freie Berater und Aufsichtspersonen\, Personen aus dem normsetzenden Bereich. \nDas detaillierte Programm zur Veranstaltung sowie den Anmeldebogen finden Sie hier ab April 2016. \n\n\n\n\n\n\n\nFortbildungspunkte der Sächsischen Landesärztekammer (SLÄK)\nFortbildungspunkte für Mitglieder des VDSI – Verband für Sicherheit\, Gesundheit und Umweltschutz bei der Arbeit e.V.
URL:https://regelrechtaktuell.de/event/2-iag-wissensboerse-praevention-sicher-durch-den-paragrafen-dschungel-rechtsvorschriften-kennen-und-anwenden/
LOCATION:DGUV Akademie\, Königsbrücker Landstraße 2\, Dresden\, 01109
CATEGORIES:Termine
END:VEVENT
END:VCALENDAR