﻿BEGIN:VCALENDAR
VERSION:2.0
PRODID:-//Regel-Recht aktuell - ECPv6.0.12//NONSGML v1.0//EN
CALSCALE:GREGORIAN
METHOD:PUBLISH
X-ORIGINAL-URL:https://regelrechtaktuell.de
X-WR-CALDESC:Veranstaltungen im Regel-Recht aktuell
REFRESH-INTERVAL;VALUE=DURATION:PT1H
X-Robots-Tag:noindex
X-PUBLISHED-TTL:PT1H
BEGIN:VTIMEZONE
TZID:Europe/Berlin
BEGIN:DAYLIGHT
TZOFFSETFROM:+0100
TZOFFSETTO:+0200
TZNAME:CEST
DTSTART:20170326T010000
END:DAYLIGHT
BEGIN:STANDARD
TZOFFSETFROM:+0200
TZOFFSETTO:+0100
TZNAME:CET
DTSTART:20171029T010000
END:STANDARD
END:VTIMEZONE
BEGIN:VEVENT
DTSTART;VALUE=DATE:20170609
DTEND;VALUE=DATE:20170611
DTSTAMP:20260424T180723
CREATED:20170127T135914Z
LAST-MODIFIED:20170127T135914Z
UID:1621-1496966400-1497139199@regelrechtaktuell.de
SUMMARY:8. Dresdner Kita-Symposium: Gemeinsam stark – Fließende Grenzen in stürmischen Zeiten
DESCRIPTION:Grenzen aufspüren\, Grenzen setzen\, Grenzen überwinden und Grenzen verschieben: In Kitas und in der Kindertagespflege sind die Grenzen oft fließend. Während Kinder immer wieder ihre eigenen Grenzen austesten\, sind Fachkräfte gefordert\, Grenzen zu setzen und zu wahren – selbst wenn sie dadurch an ihre eigenen stoßen. Im Alltag werden Grenzen unterdessen immer wieder überwunden\, um ein harmonisches und ausgeglichenes Miteinander zu ermöglichen. Die Herausforderungen\, die Beschäftigte in Kitas und in der Kindertagespflege in diesem Spannungsfeld regelmäßig bewältigen\, sind Thema des 8. Dresdner Kita-Symposiums.
URL:https://regelrechtaktuell.de/event/8-dresdner-kita-symposium-gemeinsam-stark-fliessende-grenzen-in-stuermischen-zeiten/
LOCATION:DGUV Akademie\, Königsbrücker Landstraße 2\, Dresden\, 01109
CATEGORIES:Termine
END:VEVENT
END:VCALENDAR