﻿BEGIN:VCALENDAR
VERSION:2.0
PRODID:-//Regel-Recht aktuell - ECPv6.0.12//NONSGML v1.0//EN
CALSCALE:GREGORIAN
METHOD:PUBLISH
X-ORIGINAL-URL:https://regelrechtaktuell.de
X-WR-CALDESC:Veranstaltungen im Regel-Recht aktuell
REFRESH-INTERVAL;VALUE=DURATION:PT1H
X-Robots-Tag:noindex
X-PUBLISHED-TTL:PT1H
BEGIN:VTIMEZONE
TZID:Europe/Berlin
BEGIN:DAYLIGHT
TZOFFSETFROM:+0100
TZOFFSETTO:+0200
TZNAME:CEST
DTSTART:20170326T010000
END:DAYLIGHT
BEGIN:STANDARD
TZOFFSETFROM:+0200
TZOFFSETTO:+0100
TZNAME:CET
DTSTART:20171029T010000
END:STANDARD
END:VTIMEZONE
BEGIN:VEVENT
DTSTART;VALUE=DATE:20170328
DTEND;VALUE=DATE:20170330
DTSTAMP:20260422T025451
CREATED:20161130T135800Z
LAST-MODIFIED:20161130T135800Z
UID:1521-1490659200-1490831999@regelrechtaktuell.de
SUMMARY:6. Sankt Augustiner Expertentreff "Gefahrstoffe"
DESCRIPTION:Die Themen des 6. Sankt Augustiner Expertentreffs sind: Aktuelles aus dem Gefahrstoffrecht: Mutterschutz und Gefahrstoffrecht\, Gesundheitsrisiken durch Aluminium\, Asbest – alte Gefahren neu erkannt – was ist zu tun?\, Anforderungen an die Fachkunde\, Allergien bei Berufsanfängern\, Emissionen bei additiven Fertigungsverfahren (3D-Druck) und „Speed-Datenbanking“ zum Gefahrstoffmanagement in Kleinbetrieben.
URL:https://regelrechtaktuell.de/event/6-sankt-augustiner-expertentreff-gefahrstoffe-2/
LOCATION:Hotel Maritim\, Rheinallee 3\, Königswinter\, 53639 
CATEGORIES:Termine
END:VEVENT
END:VCALENDAR