﻿BEGIN:VCALENDAR
VERSION:2.0
PRODID:-//Regel-Recht aktuell - ECPv6.0.12//NONSGML v1.0//EN
CALSCALE:GREGORIAN
METHOD:PUBLISH
X-WR-CALNAME:Regel-Recht aktuell
X-ORIGINAL-URL:https://regelrechtaktuell.de
X-WR-CALDESC:Veranstaltungen im Regel-Recht aktuell
REFRESH-INTERVAL;VALUE=DURATION:PT1H
X-Robots-Tag:noindex
X-PUBLISHED-TTL:PT1H
BEGIN:VTIMEZONE
TZID:Europe/Berlin
BEGIN:DAYLIGHT
TZOFFSETFROM:+0100
TZOFFSETTO:+0200
TZNAME:CEST
DTSTART:20160327T010000
END:DAYLIGHT
BEGIN:STANDARD
TZOFFSETFROM:+0200
TZOFFSETTO:+0100
TZNAME:CET
DTSTART:20161030T010000
END:STANDARD
END:VTIMEZONE
BEGIN:VEVENT
DTSTART;TZID=Europe/Berlin:20160615T140000
DTEND;TZID=Europe/Berlin:20160615T180000
DTSTAMP:20260422T193308
CREATED:20160411T103739Z
LAST-MODIFIED:20160411T103739Z
UID:815-1465999200-1466013600@regelrechtaktuell.de
SUMMARY:Dokumentationspflicht beim Umgang mit krebserzeugenden Gefahrstoffen am Arbeitsplatz
DESCRIPTION:weitere Infos unter: https://bzg-bergischesland.vdsi.de/688/16186
URL:https://regelrechtaktuell.de/event/dokumentationspflicht-beim-umgang-mit-krebserzeugenden-gefahrstoffen-am-arbeitsplatz/
LOCATION:Karl-Diederichs KG – Dirostahl\, Luckhauser Str. 1-5\, Remscheid\, 42899
CATEGORIES:Termine
END:VEVENT
BEGIN:VEVENT
DTSTART;VALUE=DATE:20160628
DTEND;VALUE=DATE:20160630
DTSTAMP:20260422T193308
CREATED:20160115T115919Z
LAST-MODIFIED:20160115T115919Z
UID:557-1467072000-1467244799@regelrechtaktuell.de
SUMMARY:2. DGUV-Forum Forschung Extra - Geruchsbelästigende und reizende Gefahrstoffe
DESCRIPTION:weitere Informationen folgen.
URL:https://regelrechtaktuell.de/event/2-dguv-forum-forschung-extra-geruchsbelaestigende-und-reizende-gefahrstoffe/
LOCATION:DGUV Akademie\, Königsbrücker Landstraße 2\, Dresden\, 01109
CATEGORIES:Termine
END:VEVENT
END:VCALENDAR