﻿BEGIN:VCALENDAR
VERSION:2.0
PRODID:-//Regel-Recht aktuell - ECPv6.0.12//NONSGML v1.0//EN
CALSCALE:GREGORIAN
METHOD:PUBLISH
X-WR-CALNAME:Regel-Recht aktuell
X-ORIGINAL-URL:https://regelrechtaktuell.de
X-WR-CALDESC:Veranstaltungen im Regel-Recht aktuell
REFRESH-INTERVAL;VALUE=DURATION:PT1H
X-Robots-Tag:noindex
X-PUBLISHED-TTL:PT1H
BEGIN:VTIMEZONE
TZID:Europe/Berlin
BEGIN:DAYLIGHT
TZOFFSETFROM:+0100
TZOFFSETTO:+0200
TZNAME:CEST
DTSTART:20160327T010000
END:DAYLIGHT
BEGIN:STANDARD
TZOFFSETFROM:+0200
TZOFFSETTO:+0100
TZNAME:CET
DTSTART:20161030T010000
END:STANDARD
END:VTIMEZONE
BEGIN:VEVENT
DTSTART;VALUE=DATE:20160511
DTEND;VALUE=DATE:20160513
DTSTAMP:20260422T210851
CREATED:20160413T110646Z
LAST-MODIFIED:20160413T110646Z
UID:825-1462924800-1463097599@regelrechtaktuell.de
SUMMARY:6. Essener Gefahrstofftage
DESCRIPTION:Inhalt \n\nAktuelles Wissen praxisnah dargestellt\n13 Praxisvorträge – 2 Experimentalvorträge\nNeue rechtliche Grundlagen komprimiert erläutert\nHilfestellungen für die betriebliche Umsetzung\nBekannte Referenten – topaktuelle Themen\nMit begleitender Ausstellung: Informationen über Hersteller und Dienstleister\nErfahrungsaustausch mit Berufskollegen\n\nZum Thema\nPraktisch jedes deutsche Unternehmen wird mit Gefahrstoffen tätig. Die sich daraus ergebenden Gefahren für Sicherheit\, Gesundheit\, Brandschutz und Umwelt stellen einen häufig unterschätzten\, aber existentiell wichtigen Bestandteil Ihres Unternehmens dar. Ein Großteil der knapp 100.000 gemeldeten Berufskrankheiten-Verdachtsmomente\, aber auch ein Teil der 200 Großschadensereignisse jedes Jahr in deutschen Unternehmen sind auf Gefahr-Tätigkeiten zurückzuführen. Auch in Ihrem Unternehmen ist daher ein effektives und umsichtiges Gefahrstoffmanagement unter Berücksichtigung technischer\, baulicher und organisatorischer Maßnahmen unerlässlich\, aber auch gefordert. Die Essener Gefahrstofftage im Haus der Technik werden in Kooperation mit namhaften Partnern und renommierten Referenten (u.a. Praxisbeiträge von Behörden\, Berufsgenossenschaften\, Hochschule und Großunternehmen) durchgeführt. Auf zwei Tage konzipiert ist das Ziel der Essener Gefahrstofftage\, zu den derzeit wichtigen Themen des Gefahrstoffmanagements umfassende Informationen und Anregungen für Fachleute und Interessenten anzubieten. Untermalt wird die Tagung von einer umfassenden begleitenden Fachausstellung\, auf der Hersteller und Dienstleister ihre neuesten Produkte präsentieren. 13 aktuelle Vorträge sind mit anschließender Diskussion geplant und werden Ihnen praxisnahe und nachvollziehbare Hilfen zur Umsetzung auch in Ihrem Betrieb geben. In zwei zusätzlichen Praxisvorträgen werden Ihnen auch die Gefahren\, die sich bei Tätigkeiten mit Gefahrstoffen ergeben\, mit Versuchen näher erläutert. Auf die aktuellen Geschehnisse und Industrieschadensfälle wird ebenfalls eingegangen. Ein Fachvortrag zum Sachstand REACH rundet das Programm ab. \n\n\n\nTeilnahmegebühr\n\n\nMitgliedergebühr:\n\n820\,00 €\nNichtmitgliedergebühr:\n\n890\,00 €\n\n\n\nmehrwertsteuerfrei\, einschließlich veranstaltungsgebundener Arbeitsunterlagen sowie Mittagessen und Pausengetränken
URL:https://regelrechtaktuell.de/event/6-essener-gefahrstofftage/
LOCATION:Haus der Technik\, Hollestraße 1\, Essen\, 45127
CATEGORIES:Termine
END:VEVENT
END:VCALENDAR