﻿BEGIN:VCALENDAR
VERSION:2.0
PRODID:-//Regel-Recht aktuell - ECPv6.0.12//NONSGML v1.0//EN
CALSCALE:GREGORIAN
METHOD:PUBLISH
X-ORIGINAL-URL:https://regelrechtaktuell.de
X-WR-CALDESC:Veranstaltungen im Regel-Recht aktuell
REFRESH-INTERVAL;VALUE=DURATION:PT1H
X-Robots-Tag:noindex
X-PUBLISHED-TTL:PT1H
BEGIN:VTIMEZONE
TZID:Europe/Berlin
BEGIN:DAYLIGHT
TZOFFSETFROM:+0100
TZOFFSETTO:+0200
TZNAME:CEST
DTSTART:20160327T010000
END:DAYLIGHT
BEGIN:STANDARD
TZOFFSETFROM:+0200
TZOFFSETTO:+0100
TZNAME:CET
DTSTART:20161030T010000
END:STANDARD
END:VTIMEZONE
BEGIN:VEVENT
DTSTART;TZID=Europe/Berlin:20161013T090000
DTEND;TZID=Europe/Berlin:20161013T163000
DTSTAMP:20260424T135408
CREATED:20160413T151131Z
LAST-MODIFIED:20160413T151131Z
UID:847-1476349200-1476376200@regelrechtaktuell.de
SUMMARY:DGUV Fachgespräch "Reduzierung der Formaldehydbelastung im anatomischen Praktikum - Lösungsansätze"
DESCRIPTION:Am 13. Oktober 2016 findet in Berlin im Hause der DGUV ein Fachgespräch zur Reduzierung der Formaldehydbelastung im anatomischen Praktikum statt. Der Ausschuss für Gefahrstoffe hat im November 2014 einen Arbeitsplatzgrenzwert für Formaldehyd festgelegt. Seit dem 1. Januar 2016 ist es chemikalienrechtlich in die Gefahrenklassen Karzinogen/Kategorie 1B und Keimzellmutagen/Kategorie 2 eingestuft. \nUntersuchungen der Unfallversicherungsträger haben gezeigt\, dass der Arbeitsplatzgrenzwert für Formaldehyd im anatomischen Praktikum häufig überschritten wird. Das Fachgespräch will die Problematik und die vom Institut für Arbeitsschutz der Deutschen Gesetzlichen Unfallversicherung (IFA) erarbeiteten Lösungsvorschläge mit allen beteiligten Stellen diskutieren\, um eine möglichst breite Umsetzung der Ergebnisse in die Praxis zu erreichen. \nDie Veranstaltung richtet sich an die Verantwortlichen von Wissenschaft und Lehre sowie an deren Planungs- und Bauabteilungen\, Fachkräfte für Arbeitssicherheit sowie Aufsichtspersonen der Länder und der Unfallversicherungsträger. \nProgramm und Anmeldeformular (PDF\, 1\,6 MB)
URL:https://regelrechtaktuell.de/event/dguv-fachgespraech-reduzierung-der-formaldehydbelastung-im-anatomischen-praktikum-loesungsansaetze/
LOCATION:Deutsche Gesetzliche Unfallversicherung e. V. (DGUV)\, Glinkastr. 40\, Berlin\, 10117
CATEGORIES:Termine
END:VEVENT
END:VCALENDAR