﻿BEGIN:VCALENDAR
VERSION:2.0
PRODID:-//Regel-Recht aktuell - ECPv6.0.12//NONSGML v1.0//EN
CALSCALE:GREGORIAN
METHOD:PUBLISH
X-ORIGINAL-URL:https://regelrechtaktuell.de
X-WR-CALDESC:Veranstaltungen im Regel-Recht aktuell
REFRESH-INTERVAL;VALUE=DURATION:PT1H
X-Robots-Tag:noindex
X-PUBLISHED-TTL:PT1H
BEGIN:VTIMEZONE
TZID:Europe/Berlin
BEGIN:DAYLIGHT
TZOFFSETFROM:+0100
TZOFFSETTO:+0200
TZNAME:CEST
DTSTART:20160327T010000
END:DAYLIGHT
BEGIN:STANDARD
TZOFFSETFROM:+0200
TZOFFSETTO:+0100
TZNAME:CET
DTSTART:20161030T010000
END:STANDARD
END:VTIMEZONE
BEGIN:VEVENT
DTSTART;TZID=Europe/Berlin:20160425T180000
DTEND;TZID=Europe/Berlin:20160425T220000
DTSTAMP:20260421T114135
CREATED:20160411T100927Z
LAST-MODIFIED:20160411T100927Z
UID:806-1461607200-1461621600@regelrechtaktuell.de
SUMMARY:6. Feuerwehrwissenschaftliches Kolloquium
DESCRIPTION:weitere Infos unter: http://www.abs.uni-wuppertal.de/aktuelles/ansicht/detail/08/maerz/2016/artikel/6-feuerwehrwissenschaftliches-kolloquium.html
URL:https://regelrechtaktuell.de/event/6-feuerwehrwissenschaftliches-kolloquium/
LOCATION:Bergische Universität Wuppertal\, Campus Grifflenberg – Hörsaal 23\, Gaußstraße 20\, Wuppertal\, 42119 
CATEGORIES:Termine
END:VEVENT
END:VCALENDAR